BEGIN:VCALENDAR
VERSION:2.0
PRODID:-//Debra H. Goldstein - ECPv6.15.20//NONSGML v1.0//EN
CALSCALE:GREGORIAN
METHOD:PUBLISH
X-WR-CALNAME:Debra H. Goldstein
X-ORIGINAL-URL:https://www.debrahgoldstein.com
X-WR-CALDESC:Events for Debra H. Goldstein
REFRESH-INTERVAL;VALUE=DURATION:PT1H
X-Robots-Tag:noindex
X-PUBLISHED-TTL:PT1H
BEGIN:VTIMEZONE
TZID:UTC
BEGIN:STANDARD
TZOFFSETFROM:+0000
TZOFFSETTO:+0000
TZNAME:UTC
DTSTART:20210101T000000
END:STANDARD
END:VTIMEZONE
BEGIN:VEVENT
DTSTART;TZID=UTC:20220315T190000
DTEND;TZID=UTC:20220315T203000
DTSTAMP:20260422T050706
CREATED:20220301T105324Z
LAST-MODIFIED:20220312T052813Z
UID:3390-1647370800-1647376200@www.debrahgoldstein.com
SUMMARY:Five Belles Too Many
DESCRIPTION:Is anticipated to be the last book in the Sarah Blair series. Because I’ve been grateful to have so many fans follow the series\, I’d like to do an interactive Zoom Read-A-Long of the series for each month through July\, beginning with the first book\, One Taste Too Many on March 15\, 2022 at 7 pm CST/ 8 pm EST/ 6 pm MST/ 5 pm. PST. \nWe’ll treat this as a book group with discussion of the book of the month. General study questions will be sent to you when I receive your registration. In addition to talking about the book in a relaxed way\, each month you’ll be able to ask me anything you’ve ever wanted to ask an author. This is a fun way for all of us to explore the series from book one to five and to get to know each other better. \nCan’t wait to share One Taste Too Many with you on March 15\, 2022. BTW\, if you don’t already have a copy of One Taste Too Many\, you can pick up an e-book version from Amazon for only $1.99. See you on Tuesday\, March 15.
URL:https://www.debrahgoldstein.com/event/five-belles-too-many/
END:VEVENT
END:VCALENDAR